BEGIN:VCALENDAR
VERSION:2.0
PRODID:SchoolNow
CALSCALE:GREGORIAN
BEGIN:VEVENT
UID:3fe0503e-721f-11f0-ac5d-0a58a9feac02
DTSTAMP:20260423T215115Z
SUMMARY:Literature CDT (10th Grade ELA)
URL;VALUE=URI:https://www.rak12.org/calendar/8473094/literature-cdt-10th-gr
 ade-ela
DTSTART;VALUE=DATE:20260421
DTEND;VALUE=DATE:20260422
END:VEVENT
END:VCALENDAR
