BEGIN:VCALENDAR
VERSION:2.0
PRODID:SchoolNow
CALSCALE:GREGORIAN
BEGIN:VEVENT
UID:3fe0511a-721f-11f0-8fed-0a58a9feac02
DTSTAMP:20260423T215115Z
SUMMARY:Biology CDT
URL;VALUE=URI:https://www.rak12.org/calendar/8473095/biology-cdt
DTSTART;VALUE=DATE:20260415
DTEND;VALUE=DATE:20260416
END:VEVENT
END:VCALENDAR
