BEGIN:VCALENDAR
VERSION:2.0
PRODID:SchoolNow
CALSCALE:GREGORIAN
BEGIN:VEVENT
UID:3fe051f6-721f-11f0-9192-0a58a9feac02
DTSTAMP:20260423T215115Z
SUMMARY:Biology CDT
URL;VALUE=URI:https://www.rak12.org/calendar/8473096/biology-cdt
DTSTART;VALUE=DATE:20260416
DTEND;VALUE=DATE:20260417
END:VEVENT
END:VCALENDAR
