BEGIN:VCALENDAR
VERSION:2.0
PRODID:SchoolNow
CALSCALE:GREGORIAN
BEGIN:VEVENT
UID:3fe052d2-721f-11f0-b7e6-0a58a9feac02
DTSTAMP:20260423T215115Z
SUMMARY:Algebra I CDTs
URL;VALUE=URI:https://www.rak12.org/calendar/8473097/algebra-i-cdts
DTSTART;VALUE=DATE:20260413
DTEND;VALUE=DATE:20260414
END:VEVENT
END:VCALENDAR
