BEGIN:VCALENDAR
VERSION:2.0
PRODID:SchoolNow
CALSCALE:GREGORIAN
BEGIN:VEVENT
UID:3fe053ae-721f-11f0-bf97-0a58a9feac02
DTSTAMP:20260423T215115Z
SUMMARY:Algebra I CDTs
URL;VALUE=URI:https://www.rak12.org/calendar/8473098/algebra-i-cdts
DTSTART;VALUE=DATE:20260414
DTEND;VALUE=DATE:20260415
END:VEVENT
END:VCALENDAR
