BEGIN:VCALENDAR
VERSION:2.0
PRODID:SchoolNow
CALSCALE:GREGORIAN
BEGIN:VEVENT
UID:8ce25b90-7ddf-11f0-8e8f-0afff78ad4a7
DTSTAMP:20260423T215114Z
SUMMARY:Applications due for Costa Rica Trip 2027
URL;VALUE=URI:https://www.rak12.org/calendar/8525339/applications-due-for-c
 osta-rica-trip-2027
DTSTART;VALUE=DATE:20260417
DTEND;VALUE=DATE:20260418
END:VEVENT
END:VCALENDAR
