BEGIN:VCALENDAR
VERSION:2.0
PRODID:SchoolNow
CALSCALE:GREGORIAN
BEGIN:VEVENT
UID:8ce25c76-7ddf-11f0-8753-0afff78ad4a7
DTSTAMP:20260423T215114Z
SUMMARY:College Info / Fin Aid Night
LOCATION:HS Flex
URL;VALUE=URI:https://www.rak12.org/calendar/8525340/college-info-fin-aid-n
 ight
DTSTART:20260420T220000Z
DTEND:20260421T000000Z
END:VEVENT
END:VCALENDAR
