BEGIN:VCALENDAR
VERSION:2.0
PRODID:SchoolNow
CALSCALE:GREGORIAN
BEGIN:VEVENT
UID:8ce260d6-7ddf-11f0-9303-0afff78ad4a7
DTSTAMP:20260423T215114Z
SUMMARY:AP Biology Exam
URL;VALUE=URI:https://www.rak12.org/calendar/8525345/ap-biology-exam
DTSTART:20260504T120000Z
DTEND:20260504T160000Z
END:VEVENT
END:VCALENDAR
