BEGIN:VCALENDAR
VERSION:2.0
PRODID:SchoolNow
CALSCALE:GREGORIAN
BEGIN:VEVENT
UID:8ce26298-7ddf-11f0-bf65-0afff78ad4a7
DTSTAMP:20260423T215114Z
SUMMARY:AP Gov & Politics Exam
URL;VALUE=URI:https://www.rak12.org/calendar/8525347/ap-gov-politics-exam
DTSTART:20260505T160000Z
DTEND:20260505T200000Z
END:VEVENT
END:VCALENDAR
