BEGIN:VCALENDAR
VERSION:2.0
PRODID:SchoolNow
CALSCALE:GREGORIAN
BEGIN:VEVENT
UID:8ce26374-7ddf-11f0-9b5c-0afff78ad4a7
DTSTAMP:20260423T215114Z
SUMMARY:AP Literature and Composition Exam
URL;VALUE=URI:https://www.rak12.org/calendar/8525348/ap-literature-and-comp
 osition-exam
DTSTART:20260506T120000Z
DTEND:20260506T160000Z
END:VEVENT
END:VCALENDAR
