BEGIN:VCALENDAR
VERSION:2.0
PRODID:SchoolNow
CALSCALE:GREGORIAN
BEGIN:VEVENT
UID:8ce26536-7ddf-11f0-8f47-0afff78ad4a7
DTSTAMP:20260423T215114Z
SUMMARY:AP Statistics Exam
URL;VALUE=URI:https://www.rak12.org/calendar/8525350/ap-statistics-exam
DTSTART:20260507T160000Z
DTEND:20260507T200000Z
END:VEVENT
END:VCALENDAR
