BEGIN:VCALENDAR
VERSION:2.0
PRODID:SchoolNow
CALSCALE:GREGORIAN
BEGIN:VEVENT
UID:8ce266ee-7ddf-11f0-9d4f-0afff78ad4a7
DTSTAMP:20260423T215114Z
SUMMARY:AP Calculus AB\, Calculus BC Exam
URL;VALUE=URI:https://www.rak12.org/calendar/8525352/ap-calculus-ab-calculu
 s-bc-exam
DTSTART:20260511T120000Z
DTEND:20260511T160000Z
END:VEVENT
END:VCALENDAR
