BEGIN:VCALENDAR
VERSION:2.0
PRODID:SchoolNow
CALSCALE:GREGORIAN
BEGIN:VEVENT
UID:8ce267ca-7ddf-11f0-87d2-0afff78ad4a7
DTSTAMP:20260423T215114Z
SUMMARY:AP Language and Composition
URL;VALUE=URI:https://www.rak12.org/calendar/8525353/ap-language-and-compos
 ition
DTSTART:20260513T120000Z
DTEND:20260513T160000Z
END:VEVENT
END:VCALENDAR
