BEGIN:VCALENDAR
VERSION:2.0
PRODID:SchoolNow
CALSCALE:GREGORIAN
BEGIN:VEVENT
UID:8ce26a54-7ddf-11f0-8484-0afff78ad4a7
DTSTAMP:20260423T215114Z
SUMMARY:SLC Costa Rica Coffee Sale/House Shirts
URL;VALUE=URI:https://www.rak12.org/calendar/8525356/slc-costa-rica-coffee-
 sale-house-shirts
DTSTART:20260129T130000Z
DTEND:20260130T010000Z
END:VEVENT
END:VCALENDAR
