BEGIN:VCALENDAR
VERSION:2.0
PRODID:SchoolNow
CALSCALE:GREGORIAN
BEGIN:VEVENT
UID:8ce26b30-7ddf-11f0-a679-0afff78ad4a7
DTSTAMP:20260423T215114Z
SUMMARY:SLC Costa Rica Coffee Sale/House Shirts
URL;VALUE=URI:https://www.rak12.org/calendar/8525357/slc-costa-rica-coffee-
 sale-house-shirts
DTSTART:20260430T120000Z
DTEND:20260501T000000Z
END:VEVENT
END:VCALENDAR
