BEGIN:VCALENDAR
VERSION:2.0
PRODID:SchoolNow
CALSCALE:GREGORIAN
BEGIN:VEVENT
UID:8ce26dc4-7ddf-11f0-a5e1-0afff78ad4a7
DTSTAMP:20260423T215114Z
SUMMARY:Shakespeare Mystery Reader
LOCATION:In Classrooms
URL;VALUE=URI:https://www.rak12.org/calendar/8525360/shakespeare-mystery-re
 ader
DTSTART:20260327T184500Z
DTEND:20260327T190000Z
END:VEVENT
END:VCALENDAR
