BEGIN:VCALENDAR
VERSION:2.0
PRODID:SchoolNow
CALSCALE:GREGORIAN
BEGIN:VEVENT
UID:8ce26ea0-7ddf-11f0-90b6-0afff78ad4a7
DTSTAMP:20260423T215115Z
SUMMARY:Shakespeare Mystery Reader
LOCATION:In Classrooms
URL;VALUE=URI:https://www.rak12.org/calendar/8525361/shakespeare-mystery-re
 ader
DTSTART:20260424T184500Z
DTEND:20260424T190000Z
END:VEVENT
END:VCALENDAR
