BEGIN:VCALENDAR
VERSION:2.0
PRODID:SchoolNow
CALSCALE:GREGORIAN
BEGIN:VEVENT
UID:8ce27134-7ddf-11f0-9074-0afff78ad4a7
DTSTAMP:20260423T215114Z
SUMMARY:100th Day of School Event K-4th
URL;VALUE=URI:https://www.rak12.org/calendar/8525364/100th-day-of-school-ev
 ent-k-4th
DTSTART;VALUE=DATE:20260217
DTEND;VALUE=DATE:20260218
END:VEVENT
END:VCALENDAR
