BEGIN:VCALENDAR
VERSION:2.0
PRODID:SchoolNow
CALSCALE:GREGORIAN
BEGIN:VEVENT
UID:8ce27210-7ddf-11f0-a1c8-0afff78ad4a7
DTSTAMP:20260423T215114Z
SUMMARY:Spring Dance Concert
LOCATION:US Gym\, LGI room
URL;VALUE=URI:https://www.rak12.org/calendar/8525365/spring-dance-concert
DTSTART:20260327T223000Z
DTEND:20260328T003000Z
END:VEVENT
END:VCALENDAR
