BEGIN:VCALENDAR
VERSION:2.0
PRODID:SchoolNow
CALSCALE:GREGORIAN
BEGIN:VEVENT
UID:8ce2848a-7ddf-11f0-8894-0afff78ad4a7
DTSTAMP:20260423T215114Z
SUMMARY:LET's Completed
URL;VALUE=URI:https://www.rak12.org/calendar/8525385/lets-completed
DTSTART;VALUE=DATE:20260403
DTEND;VALUE=DATE:20260404
END:VEVENT
END:VCALENDAR
