BEGIN:VCALENDAR
VERSION:2.0
PRODID:SchoolNow
CALSCALE:GREGORIAN
BEGIN:VEVENT
UID:8ce2855c-7ddf-11f0-9c08-0afff78ad4a7
DTSTAMP:20260423T215114Z
SUMMARY:Self-Evals & PGPs Due
URL;VALUE=URI:https://www.rak12.org/calendar/8525386/self-evals-pgps-due
DTSTART;VALUE=DATE:20260422
DTEND;VALUE=DATE:20260423
END:VEVENT
END:VCALENDAR
