BEGIN:VCALENDAR
VERSION:2.0
PRODID:SchoolNow
CALSCALE:GREGORIAN
BEGIN:VEVENT
UID:8ce28638-7ddf-11f0-afc8-0afff78ad4a7
DTSTAMP:20260423T215114Z
SUMMARY:Lead Evals on Team Due
URL;VALUE=URI:https://www.rak12.org/calendar/8525387/lead-evals-on-team-due
DTSTART;VALUE=DATE:20260429
DTEND;VALUE=DATE:20260430
END:VEVENT
END:VCALENDAR
