BEGIN:VCALENDAR
VERSION:2.0
PRODID:SchoolNow
CALSCALE:GREGORIAN
BEGIN:VEVENT
UID:05f8b594-89a0-11f0-a8f7-02cd4c239dab
DTSTAMP:20260423T215114Z
SUMMARY:B DAY
URL;VALUE=URI:https://www.rak12.org/calendar/8580068/b-day
DTSTART;VALUE=DATE:20260105
DTEND;VALUE=DATE:20260106
END:VEVENT
END:VCALENDAR
