BEGIN:VCALENDAR
VERSION:2.0
PRODID:SchoolNow
CALSCALE:GREGORIAN
BEGIN:VEVENT
UID:05f8b67a-89a0-11f0-8900-02cd4c239dab
DTSTAMP:20260423T215114Z
SUMMARY:C DAY
URL;VALUE=URI:https://www.rak12.org/calendar/8580069/c-day
DTSTART;VALUE=DATE:20260106
DTEND;VALUE=DATE:20260107
END:VEVENT
END:VCALENDAR
