BEGIN:VCALENDAR
VERSION:2.0
PRODID:SchoolNow
CALSCALE:GREGORIAN
BEGIN:VEVENT
UID:063d816a-89a0-11f0-82a9-02cd4c239dab
DTSTAMP:20260423T215114Z
SUMMARY:F DAY
URL;VALUE=URI:https://www.rak12.org/calendar/8580071/f-day
DTSTART;VALUE=DATE:20260109
DTEND;VALUE=DATE:20260110
END:VEVENT
END:VCALENDAR
