BEGIN:VCALENDAR
VERSION:2.0
PRODID:SchoolNow
CALSCALE:GREGORIAN
BEGIN:VEVENT
UID:063d82d2-89a0-11f0-a287-02cd4c239dab
DTSTAMP:20260423T215115Z
SUMMARY:A DAY
URL;VALUE=URI:https://www.rak12.org/calendar/8580072/a-day
DTSTART;VALUE=DATE:20260112
DTEND;VALUE=DATE:20260113
END:VEVENT
END:VCALENDAR
