BEGIN:VCALENDAR
VERSION:2.0
PRODID:SchoolNow
CALSCALE:GREGORIAN
BEGIN:VEVENT
UID:063d896c-89a0-11f0-a68e-02cd4c239dab
DTSTAMP:20260423T215114Z
SUMMARY:A DAY
URL;VALUE=URI:https://www.rak12.org/calendar/8580078/a-day
DTSTART;VALUE=DATE:20260121
DTEND;VALUE=DATE:20260122
END:VEVENT
END:VCALENDAR
