BEGIN:VCALENDAR
VERSION:2.0
PRODID:SchoolNow
CALSCALE:GREGORIAN
BEGIN:VEVENT
UID:063d8f8e-89a0-11f0-bd2d-02cd4c239dab
DTSTAMP:20260423T215115Z
SUMMARY:E DAY
URL;VALUE=URI:https://www.rak12.org/calendar/8580084/e-day
DTSTART;VALUE=DATE:20260127
DTEND;VALUE=DATE:20260128
END:VEVENT
END:VCALENDAR
