BEGIN:VCALENDAR
VERSION:2.0
PRODID:SchoolNow
CALSCALE:GREGORIAN
BEGIN:VEVENT
UID:063d9164-89a0-11f0-a64c-02cd4c239dab
DTSTAMP:20260423T215115Z
SUMMARY:A DAY
URL;VALUE=URI:https://www.rak12.org/calendar/8580086/a-day
DTSTART;VALUE=DATE:20260202
DTEND;VALUE=DATE:20260203
END:VEVENT
END:VCALENDAR
