BEGIN:VCALENDAR
VERSION:2.0
PRODID:SchoolNow
CALSCALE:GREGORIAN
BEGIN:VEVENT
UID:063d9cea-89a0-11f0-a65a-02cd4c239dab
DTSTAMP:20260423T215115Z
SUMMARY:E DAY
URL;VALUE=URI:https://www.rak12.org/calendar/8580090/e-day
DTSTART;VALUE=DATE:20260206
DTEND;VALUE=DATE:20260207
END:VEVENT
END:VCALENDAR
