BEGIN:VCALENDAR
VERSION:2.0
PRODID:SchoolNow
CALSCALE:GREGORIAN
BEGIN:VEVENT
UID:063daf14-89a0-11f0-8955-02cd4c239dab
DTSTAMP:20260423T215115Z
SUMMARY:F DAY
URL;VALUE=URI:https://www.rak12.org/calendar/8580103/f-day
DTSTART;VALUE=DATE:20260226
DTEND;VALUE=DATE:20260227
END:VEVENT
END:VCALENDAR
