BEGIN:VCALENDAR
VERSION:2.0
PRODID:SchoolNow
CALSCALE:GREGORIAN
BEGIN:VEVENT
UID:063daffa-89a0-11f0-bfdb-02cd4c239dab
DTSTAMP:20260423T215114Z
SUMMARY:A DAY
URL;VALUE=URI:https://www.rak12.org/calendar/8580104/a-day
DTSTART;VALUE=DATE:20260227
DTEND;VALUE=DATE:20260228
END:VEVENT
END:VCALENDAR
