BEGIN:VCALENDAR
VERSION:2.0
PRODID:SchoolNow
CALSCALE:GREGORIAN
BEGIN:VEVENT
UID:063db0e0-89a0-11f0-aabc-02cd4c239dab
DTSTAMP:20260423T215115Z
SUMMARY:B DAY
URL;VALUE=URI:https://www.rak12.org/calendar/8580105/b-day
DTSTART;VALUE=DATE:20260302
DTEND;VALUE=DATE:20260303
END:VEVENT
END:VCALENDAR
