BEGIN:VCALENDAR
VERSION:2.0
PRODID:SchoolNow
CALSCALE:GREGORIAN
BEGIN:VEVENT
UID:063db2ac-89a0-11f0-812c-02cd4c239dab
DTSTAMP:20260423T215114Z
SUMMARY:D DAY
URL;VALUE=URI:https://www.rak12.org/calendar/8580107/d-day
DTSTART;VALUE=DATE:20260304
DTEND;VALUE=DATE:20260305
END:VEVENT
END:VCALENDAR
