BEGIN:VCALENDAR
VERSION:2.0
PRODID:SchoolNow
CALSCALE:GREGORIAN
BEGIN:VEVENT
UID:063db734-89a0-11f0-b43b-02cd4c239dab
DTSTAMP:20260423T215114Z
SUMMARY:B DAY
URL;VALUE=URI:https://www.rak12.org/calendar/8580111/b-day
DTSTART;VALUE=DATE:20260310
DTEND;VALUE=DATE:20260311
END:VEVENT
END:VCALENDAR
