BEGIN:VCALENDAR
VERSION:2.0
PRODID:SchoolNow
CALSCALE:GREGORIAN
BEGIN:VEVENT
UID:063db8f6-89a0-11f0-9e11-02cd4c239dab
DTSTAMP:20260423T215114Z
SUMMARY:D DAY
URL;VALUE=URI:https://www.rak12.org/calendar/8580113/d-day
DTSTART;VALUE=DATE:20260312
DTEND;VALUE=DATE:20260313
END:VEVENT
END:VCALENDAR
