BEGIN:VCALENDAR
VERSION:2.0
PRODID:SchoolNow
CALSCALE:GREGORIAN
BEGIN:VEVENT
UID:063dba4a-89a0-11f0-ae31-02cd4c239dab
DTSTAMP:20260423T215114Z
SUMMARY:E DAY
URL;VALUE=URI:https://www.rak12.org/calendar/8580114/e-day
DTSTART;VALUE=DATE:20260313
DTEND;VALUE=DATE:20260314
END:VEVENT
END:VCALENDAR
