BEGIN:VCALENDAR
VERSION:2.0
PRODID:SchoolNow
CALSCALE:GREGORIAN
BEGIN:VEVENT
UID:063dbc16-89a0-11f0-9b29-02cd4c239dab
DTSTAMP:20260423T215114Z
SUMMARY:A DAY
URL;VALUE=URI:https://www.rak12.org/calendar/8580116/a-day
DTSTART;VALUE=DATE:20260317
DTEND;VALUE=DATE:20260318
END:VEVENT
END:VCALENDAR
