BEGIN:VCALENDAR
VERSION:2.0
PRODID:SchoolNow
CALSCALE:GREGORIAN
BEGIN:VEVENT
UID:063dbd42-89a0-11f0-be95-02cd4c239dab
DTSTAMP:20260423T215115Z
SUMMARY:B DAY
URL;VALUE=URI:https://www.rak12.org/calendar/8580117/b-day
DTSTART;VALUE=DATE:20260318
DTEND;VALUE=DATE:20260319
END:VEVENT
END:VCALENDAR
