BEGIN:VCALENDAR
VERSION:2.0
PRODID:SchoolNow
CALSCALE:GREGORIAN
BEGIN:VEVENT
UID:063dbe28-89a0-11f0-9597-02cd4c239dab
DTSTAMP:20260423T215114Z
SUMMARY:C DAY
URL;VALUE=URI:https://www.rak12.org/calendar/8580118/c-day
DTSTART;VALUE=DATE:20260319
DTEND;VALUE=DATE:20260320
END:VEVENT
END:VCALENDAR
