BEGIN:VCALENDAR
VERSION:2.0
PRODID:SchoolNow
CALSCALE:GREGORIAN
BEGIN:VEVENT
UID:063dc0e4-89a0-11f0-a237-02cd4c239dab
DTSTAMP:20260423T215115Z
SUMMARY:F DAY
URL;VALUE=URI:https://www.rak12.org/calendar/8580121/f-day
DTSTART;VALUE=DATE:20260324
DTEND;VALUE=DATE:20260325
END:VEVENT
END:VCALENDAR
