BEGIN:VCALENDAR
VERSION:2.0
PRODID:SchoolNow
CALSCALE:GREGORIAN
BEGIN:VEVENT
UID:063dc238-89a0-11f0-ab4f-02cd4c239dab
DTSTAMP:20260423T215115Z
SUMMARY:A DAY
URL;VALUE=URI:https://www.rak12.org/calendar/8580122/a-day
DTSTART;VALUE=DATE:20260325
DTEND;VALUE=DATE:20260326
END:VEVENT
END:VCALENDAR
