BEGIN:VCALENDAR
VERSION:2.0
PRODID:SchoolNow
CALSCALE:GREGORIAN
BEGIN:VEVENT
UID:063dc31e-89a0-11f0-8b6e-02cd4c239dab
DTSTAMP:20260423T215115Z
SUMMARY:B DAY
URL;VALUE=URI:https://www.rak12.org/calendar/8580123/b-day
DTSTART;VALUE=DATE:20260326
DTEND;VALUE=DATE:20260327
END:VEVENT
END:VCALENDAR
