BEGIN:VCALENDAR
VERSION:2.0
PRODID:SchoolNow
CALSCALE:GREGORIAN
BEGIN:VEVENT
UID:063dc4e0-89a0-11f0-a397-02cd4c239dab
DTSTAMP:20260423T215114Z
SUMMARY:D DAY
URL;VALUE=URI:https://www.rak12.org/calendar/8580125/d-day
DTSTART;VALUE=DATE:20260330
DTEND;VALUE=DATE:20260331
END:VEVENT
END:VCALENDAR
