BEGIN:VCALENDAR
VERSION:2.0
PRODID:SchoolNow
CALSCALE:GREGORIAN
BEGIN:VEVENT
UID:063dc5d0-89a0-11f0-adec-02cd4c239dab
DTSTAMP:20260423T215114Z
SUMMARY:E DAY
URL;VALUE=URI:https://www.rak12.org/calendar/8580126/e-day
DTSTART;VALUE=DATE:20260331
DTEND;VALUE=DATE:20260401
END:VEVENT
END:VCALENDAR
