BEGIN:VCALENDAR
VERSION:2.0
PRODID:SchoolNow
CALSCALE:GREGORIAN
BEGIN:VEVENT
UID:063dc7c4-89a0-11f0-b7a4-02cd4c239dab
DTSTAMP:20260423T215114Z
SUMMARY:A DAY
URL;VALUE=URI:https://www.rak12.org/calendar/8580128/a-day
DTSTART;VALUE=DATE:20260402
DTEND;VALUE=DATE:20260403
END:VEVENT
END:VCALENDAR
