BEGIN:VCALENDAR
VERSION:2.0
PRODID:SchoolNow
CALSCALE:GREGORIAN
BEGIN:VEVENT
UID:063dc8a0-89a0-11f0-8c16-02cd4c239dab
DTSTAMP:20260423T215114Z
SUMMARY:B DAY
URL;VALUE=URI:https://www.rak12.org/calendar/8580129/b-day
DTSTART;VALUE=DATE:20260403
DTEND;VALUE=DATE:20260404
END:VEVENT
END:VCALENDAR
