BEGIN:VCALENDAR
VERSION:2.0
PRODID:SchoolNow
CALSCALE:GREGORIAN
BEGIN:VEVENT
UID:063dc986-89a0-11f0-a19c-02cd4c239dab
DTSTAMP:20260423T215115Z
SUMMARY:C DAY
URL;VALUE=URI:https://www.rak12.org/calendar/8580130/c-day
DTSTART;VALUE=DATE:20260413
DTEND;VALUE=DATE:20260414
END:VEVENT
END:VCALENDAR
