BEGIN:VCALENDAR
VERSION:2.0
PRODID:SchoolNow
CALSCALE:GREGORIAN
BEGIN:VEVENT
UID:063dca6c-89a0-11f0-8d57-02cd4c239dab
DTSTAMP:20260423T215114Z
SUMMARY:D DAY
URL;VALUE=URI:https://www.rak12.org/calendar/8580131/d-day
DTSTART;VALUE=DATE:20260414
DTEND;VALUE=DATE:20260415
END:VEVENT
END:VCALENDAR
