BEGIN:VCALENDAR
VERSION:2.0
PRODID:SchoolNow
CALSCALE:GREGORIAN
BEGIN:VEVENT
UID:063dcb48-89a0-11f0-9de0-02cd4c239dab
DTSTAMP:20260423T215114Z
SUMMARY:E DAY
URL;VALUE=URI:https://www.rak12.org/calendar/8580132/e-day
DTSTART;VALUE=DATE:20260415
DTEND;VALUE=DATE:20260416
END:VEVENT
END:VCALENDAR
